BEGIN:VCALENDAR
VERSION:2.0
PRODID:-//Immense festival - ECPv6.15.17.1//NONSGML v1.0//EN
CALSCALE:GREGORIAN
METHOD:PUBLISH
X-ORIGINAL-URL:https://immensefestival.be
X-WR-CALDESC:Évènements pour Immense festival
REFRESH-INTERVAL;VALUE=DURATION:PT1H
X-Robots-Tag:noindex
X-PUBLISHED-TTL:PT1H
BEGIN:VTIMEZONE
TZID:Europe/Brussels
BEGIN:DAYLIGHT
TZOFFSETFROM:+0100
TZOFFSETTO:+0200
TZNAME:CEST
DTSTART:20230326T010000
END:DAYLIGHT
BEGIN:STANDARD
TZOFFSETFROM:+0200
TZOFFSETTO:+0100
TZNAME:CET
DTSTART:20231029T010000
END:STANDARD
BEGIN:DAYLIGHT
TZOFFSETFROM:+0100
TZOFFSETTO:+0200
TZNAME:CEST
DTSTART:20240331T010000
END:DAYLIGHT
BEGIN:STANDARD
TZOFFSETFROM:+0200
TZOFFSETTO:+0100
TZNAME:CET
DTSTART:20241027T010000
END:STANDARD
BEGIN:DAYLIGHT
TZOFFSETFROM:+0100
TZOFFSETTO:+0200
TZNAME:CEST
DTSTART:20250330T010000
END:DAYLIGHT
BEGIN:STANDARD
TZOFFSETFROM:+0200
TZOFFSETTO:+0100
TZNAME:CET
DTSTART:20251026T010000
END:STANDARD
END:VTIMEZONE
BEGIN:VEVENT
DTSTART;TZID=Europe/Brussels:20240328T100000
DTEND;TZID=Europe/Brussels:20240328T113000
DTSTAMP:20260423T120205
CREATED:20240125T152700Z
LAST-MODIFIED:20240206T134741Z
UID:10000052-1711620000-1711625400@immensefestival.be
SUMMARY:Si l'immensité était contée de Catherine Pierloz
DESCRIPTION:Sur réservation : \nL’immensité : Immersion dans une Merde Matérielle Énorme\, non sans Impact sur la\nTrajectoire de l’Émancipation \nMal nommer les choses\, c’est ajouter aux malheurs du monde.\nAlbert Camus\nMal nommer les gens\, c’est ajouter à leur malheur sur terre.\nLe Syndicat des immenses\nNe pas pouvoir nommer les malheurs du monde\, c’est être incapable de les dénoncer.\nLe Syndicat des immenses\nJuste avant que ne commence cette histoire\, quelque part\, on ne sait où\, une voix marmonne une\ncomptine : « Il était une fois un pauvre bûcheron et sa femme. Ils avaient beaucoup d’enfants mais\nplus rien à manger. Alors l’homme et la femme allèrent perdre leurs enfants dans la forêt. C’est\nainsi que les enfants comprirent que les cauchemars n’appartiennent pas seulement au monde des\nrêves. En rentrant chez eux\, seuls et un peu déprimés\, les parents ne cessaient de s’encourager en\nrépétant : « Que pouvait-on faire d’autre ? C’est une fatalité. On ne peut rien faire. Il n’y a rien à\nfaire. »\nPublic : à partir de 10 ans\nÉcriveuse &amp; conteuse: Catherine Pierloz\nCo-Production : DoucheFLUX &amp; Théâtre de la Parole\nIllustration : ©Lucile Lux \nBilletterie disponible sur : http://www.maisondelacreation.org/Evenements/Si-l-immensite-etait-contee
URL:https://immensefestival.be/event/si-limmensite-etait-contee-de-catherine-pierloz/
LOCATION:Maison de la Création – Site Bockstael\, Place Bockstael 246A\, Bruxelles\, 1020\, Belgique
CATEGORIES:Spectacle
ATTACH;FMTTYPE=image/jpeg:https://immensefestival.be/wp-content/uploads/2024/01/©LucileLux.jpeg
END:VEVENT
BEGIN:VEVENT
DTSTART;TZID=Europe/Brussels:20240327T150000
DTEND;TZID=Europe/Brussels:20240327T163000
DTSTAMP:20260423T120205
CREATED:20240125T153038Z
LAST-MODIFIED:20240226T094628Z
UID:10000053-1711551600-1711557000@immensefestival.be
SUMMARY:Si l'immensité était contée de Catherine Pierloz
DESCRIPTION:Sur réservation: http://www.maisondelacreation.org/Evenements/Si-l-immensite-etait-contee \nEtape de création du spectacle de Catherine Pierloz\, en vue de la première du 6 juillet à « Paroles de résistance ». \nL’immensité : « Immersion dans une Merde Matérielle Énorme\, non sans Impact sur la\nTrajectoire de l’Émancipation ». \n« Mal nommer les choses\, c’est ajouter aux malheurs du monde. »\nAlbert Camus \n« Mal nommer les gens\, c’est ajouter à leur malheur sur terre. »\nLe Syndicat des immenses \n« Ne pas pouvoir nommer les malheurs du monde\, c’est être incapable de les dénoncer. »\nLe Syndicat des immenses \nJuste avant que ne commence cette histoire\, quelque part\, on ne sait où\, une voix marmonne une\ncomptine : « Il était une fois un pauvre bûcheron et sa femme. Ils avaient beaucoup d’enfants mais\nplus rien à manger. Alors l’homme et la femme allèrent perdre leurs enfants dans la forêt. C’est\nainsi que les enfants comprirent que les cauchemars n’appartiennent pas seulement au monde des\nrêves. En rentrant chez eux\, seuls et un peu déprimés\, les parents ne cessaient de s’encourager en\nrépétant : « Que pouvait-on faire d’autre ? C’est une fatalité. On ne peut rien faire. Il n’y a rien à\nfaire. » \nPublic : à partir de 10 ans\nÉcrivaine & conteuse: Catherine Pierloz\nCo-Production : DoucheFLUX & Théâtre de la Parole\nIllustration : ©Lucile Lux
URL:https://immensefestival.be/event/si-limmensite-etait-contee-de-catherine-pierloz-2/
LOCATION:Maison de la Création – Site Bockstael\, Place Bockstael 246A\, Bruxelles\, 1020\, Belgique
CATEGORIES:Spectacle
ATTACH;FMTTYPE=image/jpeg:https://immensefestival.be/wp-content/uploads/2024/01/©LucileLux.jpeg
END:VEVENT
BEGIN:VEVENT
DTSTART;TZID=Europe/Brussels:20240322T190000
DTEND;TZID=Europe/Brussels:20240322T210000
DTSTAMP:20260423T120205
CREATED:20231220T161109Z
LAST-MODIFIED:20240315T123955Z
UID:10000026-1711134000-1711141200@immensefestival.be
SUMMARY:Projection du film "Les villes succombent aussi"
DESCRIPTION:Sur réservation : http://www.maisondelacreation.org/Evenements/Les-villes-succombent-aussi\nFilm & débat \n𝟭𝟗:𝟎𝟬 𝗢𝘂𝘃𝗲𝗿𝘁𝘂𝗿𝗲 𝗱𝗲𝘀 𝗽𝗼𝗿𝘁𝗲𝘀\n𝟭𝟵:𝟑𝟬 𝗣𝗿𝗼𝗷𝗲𝗰𝘁𝗶𝗼𝗻 𝗱𝘂 𝗱𝗼𝗰𝘂𝗺𝗲𝗻𝘁𝗮𝗶𝗿𝗲 « 𝗟𝗲𝘀 𝘃𝗶𝗹𝗹𝗲𝘀 𝘀𝘂𝗰𝗰𝗼𝗺𝗯𝗲𝗻𝘁 𝗮𝘂𝘀𝘀𝗶 » 𝗲𝘁 𝗲́𝗰𝗵𝗮𝗻𝗴𝗲 𝗮𝘃𝗲𝗰 𝗖𝗼𝗻𝘃𝗶𝘃𝗲𝗻𝗰𝗲 𝗮𝘀𝗯𝗹 𝗲𝘁 𝗹𝗲 𝗦𝘆𝗻𝗱𝗶𝗰𝗮𝘁 𝗱𝗲𝘀 𝗶𝗺𝗺𝗲𝗻𝘀𝗲𝘀\n𝐔𝐧𝐞 𝐩𝐞𝐭𝐢𝐭𝐞 𝐫𝐞𝐬𝐭𝐚𝐮𝐫𝐚𝐭𝐢𝐨𝐧 𝐚̀ 𝐩𝐫𝐢𝐱 𝐥𝐢𝐛𝐫𝐞 𝐬𝐞𝐫𝐚 𝐬𝐞𝐫𝐯𝐢𝐞 𝐚𝐯𝐚𝐧𝐭 𝐞𝐭 𝐚𝐩𝐫𝐞̀𝐬 𝐥𝐚 𝐩𝐫𝐨𝐣𝐞𝐜𝐭𝐢𝐨𝐧! \nUn film de Manuel Hanot\n\nAdultes et adolescent.es dès 12 ans \n\nBruxelles\, quartier Anneessens. Depuis plus de 30 ans\, l’asbl Convivence se bat contre le mal logement face à un marché immobilier de plus en plus inaccessible pour les plus précaires. Assistantes sociales et architectes accompagnent locataires et propriétaires modestes dans leur lutte pour un habitat plus digne et une place dans la transformation de leur quartier. \nAu-delà des situations individuelles\, le film pose la question de l’avenir de Bruxelles. Qui pourra habiter dans la ville de demain\, à quel prix et en respirant quel air ? \nProduction: Centre vidéo de Bruxelles\, Convivence – samenleven\n2022\, 49mn\, VF
URL:https://immensefestival.be/event/projection-du-film-les-villes-succombent-aussi/
LOCATION:Maison de la Création – Site Bockstael\, Place Bockstael 246A\, Bruxelles\, 1020\, Belgique
CATEGORIES:Film
ATTACH;FMTTYPE=image/jpeg:https://immensefestival.be/wp-content/uploads/2023/12/zoom-3.jpg
END:VEVENT
BEGIN:VEVENT
DTSTART;TZID=Europe/Brussels:20240318T093000
DTEND;TZID=Europe/Brussels:20240318T123000
DTSTAMP:20260423T120205
CREATED:20231220T131216Z
LAST-MODIFIED:20240229T140930Z
UID:10000014-1710754200-1710765000@immensefestival.be
SUMMARY:TROP CHÈRE LA VIE - LA CARAVANE
DESCRIPTION:À Bruxelles\, la question de la pauvreté et de son corolaire\, la dette\, est une question qui touche de plus en plus de Bruxellois. Plus d’une personne sur trois vit sous le seuil de pauvreté. Un taux qui ne cesse d’augmenter depuis 30 ans. Pourtant des tabous subsistent et il reste difficile d’en parler. \nInitié en 2022 par Trapes (Tous en réseau autour de la prévention et l’expérience du surendettement)\, Esquifs (Education populaire & Création documentaire) et le CA-MD (Centre d’appui – Médation de Dette)\, le projet « Trop chère la vie ! » entend participer à dépasser ces tabous en proposant aux personnes concernées par la pauvreté un espace d’expression et de partage. \nEn 2024\, le projet « Trop Chère la vie ! » s’articule autour d’une série d’ateliers dans différentes communes de Bruxelles\, parmi lesquelles : Laeken ! \nAinsi\, les 11 & 18 mars 2024\, de 09:30 à 12:30\, deux ateliers (un d’échange et l’autre de création) seront organisés sur le site Bockstael de la Maison de la création. L’ensemble du projet se clôtura en octobre 2024 au centre culturel Bruegel où les créations seront présentées lors d’un moment public et festif. \nLes ateliers sont gratuits et ouverts à 40 adultes maximum (groupes via une structure et/ou individuels). Les participant·es ne doivent pas forcément savoir lire ou écrire\, mais doivent savoir s’exprimer en Français. \nEt en avril\, la caravane continue sa route et fait étape le 19 et 26 avril à la salle Rasquinet à Schaerbeek. Vous êtes intéressés ? Contactez remi@esquifs.be ou hmorvan@1030.be.
URL:https://immensefestival.be/event/trop-chere-la-vie-la-caravane-2/
LOCATION:Maison de la Création – Site Bockstael\, Place Bockstael 246A\, Bruxelles\, 1020\, Belgique
CATEGORIES:Atelier
ATTACH;FMTTYPE=image/png:https://immensefestival.be/wp-content/uploads/2023/12/Capture-decran-2023-12-20-a-14.06.15.png
END:VEVENT
BEGIN:VEVENT
DTSTART;TZID=Europe/Brussels:20240311T093000
DTEND;TZID=Europe/Brussels:20240311T123000
DTSTAMP:20260423T120205
CREATED:20231220T131017Z
LAST-MODIFIED:20240229T164443Z
UID:10000013-1710149400-1710160200@immensefestival.be
SUMMARY:TROP CHÈRE LA VIE - LA CARAVANE
DESCRIPTION:À Bruxelles\, la question de la pauvreté et de son corolaire\, la dette\, est une question qui touche de plus en plus de Bruxellois. Plus d’une personne sur trois vit sous le seuil de pauvreté. Un taux qui ne cesse d’augmenter depuis 30 ans. Pourtant des tabous subsistent et il reste difficile d’en parler. \nInitié en 2022 par Trapes (Tous en réseau autour de la prévention et l’expérience du surendettement)\, Esquifs (Education populaire & Création documentaire) et le CA-MD (Centre d’appui – Médation de Dette)\, le projet « Trop chère la vie ! » entend participer à dépasser ces tabous en proposant aux personnes concernées par la pauvreté un espace d’expression et de partage. \nEn 2024\, le projet « Trop Chère la vie ! » s’articule autour d’une série d’ateliers dans différentes communes de Bruxelles\, parmi lesquelles : Laeken ! \nAinsi\, les 11 & 18 mars 2024\, de 09:30 à 12:30\, deux ateliers (un d’échange et l’autre de création) seront organisés sur le site Bockstael de la Maison de la création. L’ensemble du projet se clôtura en octobre 2024 au centre culturel Bruegel où les créations seront présentées lors d’un moment public et festif. \nLes ateliers sont gratuits et ouverts à 40 adultes maximum (groupes via une structure et/ou individuels). Les participant·es ne doivent pas forcément savoir lire ou écrire\, mais doivent savoir s’exprimer en Français. \nEt en avril\, la caravane continue sa route et fait étape le 19 et 26 avril à la salle Rasquinet à Schaerbeek. Vous êtes intéressés ? Contactez remi@esquifs.be ou hmorvan@1030.be.
URL:https://immensefestival.be/event/trop-chere-la-vie-la-caravane/
LOCATION:Maison de la Création – Site Bockstael\, Place Bockstael 246A\, Bruxelles\, 1020\, Belgique
CATEGORIES:Atelier
ATTACH;FMTTYPE=image/png:https://immensefestival.be/wp-content/uploads/2023/12/Capture-decran-2023-12-20-a-14.06.15.png
END:VEVENT
END:VCALENDAR