BEGIN:VCALENDAR
VERSION:2.0
PRODID:-//Immense festival - ECPv6.15.17.1//NONSGML v1.0//EN
CALSCALE:GREGORIAN
METHOD:PUBLISH
X-ORIGINAL-URL:https://immensefestival.be
X-WR-CALDESC:Évènements pour Immense festival
REFRESH-INTERVAL;VALUE=DURATION:PT1H
X-Robots-Tag:noindex
X-PUBLISHED-TTL:PT1H
BEGIN:VTIMEZONE
TZID:Europe/Brussels
BEGIN:DAYLIGHT
TZOFFSETFROM:+0100
TZOFFSETTO:+0200
TZNAME:CEST
DTSTART:20230326T010000
END:DAYLIGHT
BEGIN:STANDARD
TZOFFSETFROM:+0200
TZOFFSETTO:+0100
TZNAME:CET
DTSTART:20231029T010000
END:STANDARD
BEGIN:DAYLIGHT
TZOFFSETFROM:+0100
TZOFFSETTO:+0200
TZNAME:CEST
DTSTART:20240331T010000
END:DAYLIGHT
BEGIN:STANDARD
TZOFFSETFROM:+0200
TZOFFSETTO:+0100
TZNAME:CET
DTSTART:20241027T010000
END:STANDARD
BEGIN:DAYLIGHT
TZOFFSETFROM:+0100
TZOFFSETTO:+0200
TZNAME:CEST
DTSTART:20250330T010000
END:DAYLIGHT
BEGIN:STANDARD
TZOFFSETFROM:+0200
TZOFFSETTO:+0100
TZNAME:CET
DTSTART:20251026T010000
END:STANDARD
BEGIN:DAYLIGHT
TZOFFSETFROM:+0100
TZOFFSETTO:+0200
TZNAME:CEST
DTSTART:20260329T010000
END:DAYLIGHT
BEGIN:STANDARD
TZOFFSETFROM:+0200
TZOFFSETTO:+0100
TZNAME:CET
DTSTART:20261025T010000
END:STANDARD
BEGIN:DAYLIGHT
TZOFFSETFROM:+0100
TZOFFSETTO:+0200
TZNAME:CEST
DTSTART:20270328T010000
END:DAYLIGHT
BEGIN:STANDARD
TZOFFSETFROM:+0200
TZOFFSETTO:+0100
TZNAME:CET
DTSTART:20271031T010000
END:STANDARD
END:VTIMEZONE
BEGIN:VEVENT
DTSTART;TZID=Europe/Brussels:20260328T100000
DTEND;TZID=Europe/Brussels:20260328T130000
DTSTAMP:20260422T131643
CREATED:20260203T210143Z
LAST-MODIFIED:20260219T144924Z
UID:10001102-1774692000-1774702800@immensefestival.be
SUMMARY:Bibliotheque Vivante // Ne jugeons pas un Livre à sa couverture
DESCRIPTION:Dans le cadre de L’immense festival\, on vous invite à la prochaine Bibliothèque Vivante ! \nDans nos rayons\, vous ne trouverez pas des ouvrages classiques mais des Livres vivants : des personnes réelles\, prêtes à partager une facette de leur histoire personnelle\, souvent marquée par un stéréotype ou un préjugé qu’elles ont un jour vécu. \nVenez les rencontrer\, échanger librement et explorer vos propres a priori\, dans un cadre chaleureux et bienveillant. \nUn créneau de lecture avec un Livre Vivant dure 30 minutes et la dernière réservation de lecture est à 12h30. \nPour plus d’infos : https://www.laconcertation-asbl.org/bibliotheque-vivante/ \nProjet porté par La Concertation ASBL\, dans le cadre de l’Immense festival\, en partenariat avec Présence et Action Culturelles Régionale Bruxelles (PAC)\, La Maison du Livre\, la Biblio de Saint-Gilles\, soutenu par la Commission communautaire française et la Fédération Wallonie-Bruxelles. \nInfos pratiques : Entrée libre et gratuite
URL:https://immensefestival.be/event/bibliotheque-vivante/
LOCATION:Maison du Livre\, Rue de Rome 28\, Saint-Gilles\, 1060
CATEGORIES:Rencontre/débat,Théatre
ATTACH;FMTTYPE=image/jpeg:https://immensefestival.be/wp-content/uploads/2026/02/bibliotheque-vivante.jpeg
END:VEVENT
BEGIN:VEVENT
DTSTART;TZID=Europe/Brussels:20260317T190000
DTEND;TZID=Europe/Brussels:20260317T210000
DTSTAMP:20260422T131643
CREATED:20260203T201745Z
LAST-MODIFIED:20260220T142651Z
UID:10001081-1773774000-1773781200@immensefestival.be
SUMMARY:Conférence gesticulée de Sarah Ben Brahim : "De l'ombre à la lumière"
DESCRIPTION:Après des années de mutisme\, Sarah Ben Brahim a choisi de briser le silence en racontant son calvaire. Son militantisme au sein du Syndicat des Immenses\, entre autres\, lui en a donné la force. Elle a créé une conférence gesticulée qui\, à travers son expérience vécue\, met en lumière les réalités de : \n· La violence conjugale et patriarcale \n· Le narcissisme et l’inceste \n· Les signes avant-coureurs de ces violences \nUn récit poignant autant qu’une invitation à comprendre et à agir ! \nCette soirée de L’immense festival s’inscrit dans la programmation thématique de la Maison du Livre Des accords de genres et réciproquement. \nOuverture des portes à 18h30 \nGratuit – sans réservation
URL:https://immensefestival.be/event/conference-gesticulee-sarah-de-lombre-a-la-lumiere/
LOCATION:Maison du Livre\, Rue de Rome 28\, Saint-Gilles\, 1060
CATEGORIES:Conférence
ATTACH;FMTTYPE=image/jpeg:https://immensefestival.be/wp-content/uploads/2026/02/SARAH_CONF_INSTA22.jpeg
END:VEVENT
BEGIN:VEVENT
DTSTART;TZID=Europe/Brussels:20250314T183000
DTEND;TZID=Europe/Brussels:20250314T210000
DTSTAMP:20260422T131643
CREATED:20241222T163924Z
LAST-MODIFIED:20250228T112134Z
UID:10001038-1741977000-1741986000@immensefestival.be
SUMMARY:Apéro - Rencontre : "La rue et ses littératures légitimes"
DESCRIPTION:Entrée gratuite  \nSoirée de discussion avec deux auteures\, Tessy Oudèna et Elodie Fiabane\, impliquées de par leurs écrits dans les aléas de la vie et la survie dans la rue. \nPeut-on écrire la rue sans y et en avoir vécu ? \nComment écrire la rue quand on l’a connue jusque dans ses viscères ? \nLa fiction qui considère l’extrême précarité de l’existence à la belle étoile\, est-elle de la solidarité ou de la trahison ? \nEst-ce que l’écriture aide à s’aider soi-même tout en mettant en lumière les impasses dénuées de refuge de nos villes ? \n La rencontre sera ponctuée par des lectures poétiques par Jonathan Carrier. \n  \nTessy Oudéna a passé 15 ans de sa vie dans la rue. Son premier recueil de poésie en témoigne. Elle est aujourd’hui fixée à Bruxelles. Mon nom de rue est personne est paru en 2023 chez Courgettes Éditions : Une histoire en poésie qui nous plonge dans des émotions puissantes d’une trame de la rue. Récit vibrant qui dépasse les frontières du langage et raconte celles et ceux qui ont marché dans l’ombre\, cherchant à (re)trouver un monde qui les ignore. \nElodie Fiabane est monteuse et réalisatrice. Son travail mêle art vidéo\, approche sociologique et écritures documentaires. Elle publie son premier roman\, Dans la ville\, révélant certaines zones d’ombre de Paris\, en 2024 chez Flammarion. Roman fragile et déterminé divulguant des aspects de la vie quotidienne du peuple des sans-logis disséminé sur les trottoirs de Paris\, vie multiple telle qu’elle est rencontrée par des bénévoles désireux d’aider\, ou du moins d’être là et d’écouter.  \nJonathan Carrier vit à Bruxelles. La marge de la ville a fait de lui un poète\, il publie dès lors son premier recueil chez MaelstrÖm Éditions en 2022\, L’immense jeu suivi de L’immense jeu D’eux en 2024. Recueils de poésies qui non seulement chantent la rue\, mais qui se chantent dans la rue. Avec le lot de visions\, de douleur\, d’abnégation et de résistance que peut charrier le bitume.
URL:https://immensefestival.be/event/apero-rencontre-la-rue-et-ses-litteratures-legitimes/
LOCATION:Maison du Livre\, Rue de Rome 28\, Saint-Gilles\, 1060
ATTACH;FMTTYPE=image/jpeg:https://immensefestival.be/wp-content/uploads/2024/12/Brassai-rue-2.jpg
END:VEVENT
BEGIN:VEVENT
DTSTART;TZID=Europe/Brussels:20240326T190000
DTEND;TZID=Europe/Brussels:20240326T210000
DTSTAMP:20260422T131643
CREATED:20240225T180256Z
LAST-MODIFIED:20240227T235824Z
UID:10000178-1711479600-1711486800@immensefestival.be
SUMMARY:Ni à la rue\, ni à l’hosto - Débat
DESCRIPTION:Quand ça ne tourne pas bien dans la tête\, on peut vite perdre ses moyens\, être marginalisé∙e et se retrouver à la rue. Quand on est à la rue ou sans-papier\, il y a de quoi tourner fou. On n’est pas à l’abri d’un passage en psychiatrie. Précarisations sociale\, psychique et administrative ne cessent ainsi de se renforcer. Face à cette spirale infernale\, les services sociaux comme de santé mentale se sentent souvent impuissants. Leurs actions se réduisent à du palliatif. Les personnes en difficultés errent entre la rue et les différents services. Comment ceux-ci pourraient-ils se renforcer\, mutuellement et avec d’autres\, pour faire vraiment soin\, pour inverser la spirale et exiger des issues au sans-chez-soirisme ? Au lieu de médicaliser le social\, ne s’agirait-il pas de socialiser le soin et de soigner les rapports sociaux ? Avec Ø  Charly Sibille\, psychiatre\, Équipe mobile de crise CHU Saint-Pierre Ø  Nordine Saïdi\, intervenant social auprès des jeunes en errance\, Macadam asbl ; Ø  Un Immense\, Individu dans une Merde Matérielle Énorme mais Non Sans Exigences \nØ  Animation : Eleni Alevanti (Équipe mobile de crise CHU Saint-Pierre) et Mathieu Bietlot (Maison du Livre) \nPartenariat : Maison du Livre & Équipe mobile de crise CHU Saint-Pierre
URL:https://immensefestival.be/event/ni-a-la-rue-ni-a-lhosto-debat/
LOCATION:Maison du Livre\, Rue de Rome 28\, Saint-Gilles\, 1060
CATEGORIES:Conférence
ATTACH;FMTTYPE=image/jpeg:https://immensefestival.be/wp-content/uploads/2024/02/bandeau-def-debat.jpeg
END:VEVENT
BEGIN:VEVENT
DTSTART;TZID=Europe/Brussels:20240318T180000
DTEND;TZID=Europe/Brussels:20240318T210000
DTSTAMP:20260422T131643
CREATED:20231220T153928Z
LAST-MODIFIED:20240317T103543Z
UID:10000021-1710784800-1710795600@immensefestival.be
SUMMARY:Sortie du livre "Thésaurus de l’immensité"
DESCRIPTION:Sortie de livre Le Thésaurus de l’immensité\, édité par La Lettre volée. \n« Le chef-d’œuvre du Syndicat des immenses ! » (anonyme) Ce livre donne en effet accès\, de manière très accessible et imagée\, au cœur de l’action multidimensionnelle du Syndicat\, alliant créativité débridée et militantisme pointu. Et il enchantera aussi les amateurs de littérature et de jeux linguistiques hardis. \nTable des matières : \nL’imagination est une passion altruiste (par Caroline Lamarche)   \n\n Le Thésaurus de l’immensité  (les 200 nouveaux mots)\n « À la masse s’il le faut ! »  (roman-photo)\n Exercices littéraires (et néanmoins politiques)    \n Jeux linguistiques (et néanmoins drolatiques)\n\nLes mots sont des armes à triple tranchant (par Laurent d’Ursel)\n \nAnnexe 1. Transpositions d’« immense » dans d’autres langues\nAnnexe 2. Déclinaisons visuelles des 4 piliers du sans-chez-soirisme persistant\nAnnexe 3. Solution des jeux linguistiques (et néanmoins drolatiques)\nAnnexe 4. Revendications du Syndicat des immenses
URL:https://immensefestival.be/event/sortie-du-thesaurus-de-limmensite/
LOCATION:Maison du Livre\, Rue de Rome 28\, Saint-Gilles\, 1060
CATEGORIES:Sortie de livre
ATTACH;FMTTYPE=image/jpeg:https://immensefestival.be/wp-content/uploads/2023/12/visuel-183_LLV_D-ursel_Test-Cover8-copie.jpg
END:VEVENT
BEGIN:VEVENT
DTSTART;TZID=Europe/Brussels:20240316T170000
DTEND;TZID=Europe/Brussels:20240316T190000
DTSTAMP:20260422T131643
CREATED:20240229T164650Z
LAST-MODIFIED:20240307T152503Z
UID:10000186-1710608400-1710615600@immensefestival.be
SUMMARY:Ecoute collective de Emilio\, documentaire radiophonique par Aude Dierkens
DESCRIPTION:Au coin de la rue Pieter et de l’avenue Kersbeek\, il y a la photo d’un homme. \nCet homme\, c’est Emilio\, le seigneur de notre quartier. Dans ses yeux\, il y avait des histoires : l’histoire d’un boxeur qui a refusé de perdre un match\, l’histoire d’un Prince au nez cabossé qui a fui la Roumanie il y a 20 ans\, l’histoire d’un homme assis sur un banc scrutant le monde\, accompagné d’une bouteille de rosé. Emilio\, il n’avait rien et il donnait tout. Depuis son départ\, sa présence hante le quartier et ses histoires continuent d’exister… \nCrédits : \nRéalisation et prise de son : Aude Dierkens\nProduction\, montage et mixage : Quentin Jacques\nSaxophone : Thomas Olbrechts\, extraits des albums « Inertia » et « Westrand »\nTextes issus de « Tarzan » écrit par Thierry Lefèvre\nAvec les voix de : Marcelle Carton\, Marie Cavenaile\, Nadine Lecoq\, Thierry\, Marius et Naïs Lefèvre\, Carlo Morello et Alan Vanoverschelde\nMerci à Quentin\, Thierry\, Brice\, Une Compagnie et Emilio \nUn documentaire radiophonique produit par deux temps trois mouvements asbl\, avec le soutien du Fond d’Aide à la Création Radiophonique de la Fédération Wallonie Bruxelles.
URL:https://immensefestival.be/event/ecoute-collective-de-emilio-documentaire-radiophonique-par-aude-dierkens/
LOCATION:Maison du Livre\, Rue de Rome 28\, Saint-Gilles\, 1060
CATEGORIES:Audio
ATTACH;FMTTYPE=image/jpeg:https://immensefestival.be/wp-content/uploads/2024/02/Emilio.jpg
END:VEVENT
BEGIN:VEVENT
DTSTART;TZID=Europe/Brussels:20240316T140000
DTEND;TZID=Europe/Brussels:20240316T170000
DTSTAMP:20260422T131643
CREATED:20231220T150252Z
LAST-MODIFIED:20240215T133745Z
UID:10000019-1710597600-1710608400@immensefestival.be
SUMMARY:Arpentage du livre "Politique et immensité"
DESCRIPTION:Arpentage du livre « Politique et immensité » // Réservations: eve.leguebe@pac-bruxelles.be \nDescription du livre: \nImmense est le nom\, ni stigmatisant ni réducteur\, des personnes en mal-logement ou non-logement\, précédemment appelées SDF\, sans-abri\, précaires\, sans-papiers\, etc.\nSyndicat des immenses est depuis 2019 en Région de Bruxelles-Capitale le nom d’ un syndicat hyper actif\, portant la voix\, les combats et les revendications politiques des immenses.\nUniversité d’été des immenses est le nom donné au croisement et à l’ enrichissement mutuel des expertises d’immenses et d’universitaires\, de travailleurs\, de travailleuses et de politiques\, autour de quelques thèmes. Un long travail réflexif précède et suit chaque Université d’été des immenses\, lequel passe par la publication d’un livre qui fait le point provisoire sur les thèmes choisis.\nPolitique et immensité est le titre du livre résultant de la première Université d’été des immenses\, qui s’ est tenue le 22 octobre 2021 à la VUB. Non content de rendre compte de la richesse de l’événement\, le livre enjoint le lecteur à saisir la balle au bond. D’où son sous-titre : « Les immenses à votre écoute ».\nLes 4 thèmes choisis: Zéro déchet humain − contre l’ économie du gaspillage (humain); pour dire l’immensité\, des mots sont à inventer et certains sont à bannir − pour un thésaurus de l’immensité; la vie rendue invivable − contre la nécropolitique à l’œuvre dans les politiques sociales ; fêter la Saint-Covid le 13 mars ? − le virus a exacerbé les inégalités et sorti des personnes de la rue.\nPolitique et immensité est moins les « actes » d’un colloque\, promis à une inéluctable poussière bibliothécaire\, que des « co(a)gitations dans l’immensité »\, nécessaires à un indispensable sursaut sociétal à l’endroit du mal-logement et du non-logement.
URL:https://immensefestival.be/event/arpentage-du-livre-politique-et-immensite/
LOCATION:Maison du Livre\, Rue de Rome 28\, Saint-Gilles\, 1060
CATEGORIES:Atelier
ATTACH;FMTTYPE=image/jpeg:https://immensefestival.be/wp-content/uploads/2023/12/223d3e825305be1390f95e96c8b494f2_M.jpg
END:VEVENT
END:VCALENDAR