BEGIN:VCALENDAR
VERSION:2.0
PRODID:-//Immense festival - ECPv6.15.17.1//NONSGML v1.0//EN
CALSCALE:GREGORIAN
METHOD:PUBLISH
X-ORIGINAL-URL:https://immensefestival.be
X-WR-CALDESC:Évènements pour Immense festival
REFRESH-INTERVAL;VALUE=DURATION:PT1H
X-Robots-Tag:noindex
X-PUBLISHED-TTL:PT1H
BEGIN:VTIMEZONE
TZID:Europe/Brussels
BEGIN:DAYLIGHT
TZOFFSETFROM:+0100
TZOFFSETTO:+0200
TZNAME:CEST
DTSTART:20240331T010000
END:DAYLIGHT
BEGIN:STANDARD
TZOFFSETFROM:+0200
TZOFFSETTO:+0100
TZNAME:CET
DTSTART:20241027T010000
END:STANDARD
BEGIN:DAYLIGHT
TZOFFSETFROM:+0100
TZOFFSETTO:+0200
TZNAME:CEST
DTSTART:20250330T010000
END:DAYLIGHT
BEGIN:STANDARD
TZOFFSETFROM:+0200
TZOFFSETTO:+0100
TZNAME:CET
DTSTART:20251026T010000
END:STANDARD
BEGIN:DAYLIGHT
TZOFFSETFROM:+0100
TZOFFSETTO:+0200
TZNAME:CEST
DTSTART:20260329T010000
END:DAYLIGHT
BEGIN:STANDARD
TZOFFSETFROM:+0200
TZOFFSETTO:+0100
TZNAME:CET
DTSTART:20261025T010000
END:STANDARD
END:VTIMEZONE
BEGIN:VEVENT
DTSTART;TZID=Europe/Brussels:20250321T163000
DTEND;TZID=Europe/Brussels:20250321T210000
DTSTAMP:20260422T132952
CREATED:20250217T144136Z
LAST-MODIFIED:20250217T182155Z
UID:10001067-1742574600-1742590800@immensefestival.be
SUMMARY:"Expo-immersion" - célébration de la clôture de l'exposition
DESCRIPTION:Cette exposition photo\, à l’initiative d’ORFEO\, met en lumière les ateliers artistiques réalisés avec les enfants hebergé.e.s au Samusocial d’Evere.\nÀ travers des images vibrantes\, plongez dans l’univers créatif et ludique de leurs anim’artistes\, témoignant de leur joie\, de leur imagination et de leur développement.\nRejoignez-nous pour une projection audio d’un film inspirant\, liée aux thèmes de l’enfance et de la créativité suivi d’un débat le vendredi 21 mars dès 16h30 (voir déroulé de l’évènement ci-dessous). Ce moment d’échange sera l’occasion d’explorer l’impact de l’art sur la santé et bien-être des enfants et de sensibiliser le public à la réalité des familles en difficulté.\n\n\n\nDéroulé de l’évènement : \n16h-16h30 : accueil ;\n16h30-18h30 : mini ateliers : jeux\, expression corporelle/illustration\, expérience scientifique\, danse ;\n18h30 : pause & rafraîchissements ;\n19h-19h30 : diffusion d’un film audio ;\n19h30-20h00 : débats-échanges (un expert de l’éducation\, un artiste ayant participé au projet\, un immense ;\n20h00-21h00 : fête de fin d’exposition\n\n\n\nL’exposition ouvre ses portes le Lundi 17 mars à 16h (vernissage)\, et sera accessible du mardi 18 au jeudi 20 mars en présence de la coordinatrice pour quelques explications.
URL:https://immensefestival.be/event/expo-immersion-celebration-de-la-cloture-de-lexposition/
LOCATION:Usquare\, Avenue de la couronne 227\, Ixelles\, 1050
CATEGORIES:Atelier,Exposition,Film,Rencontre/débat
ATTACH;FMTTYPE=image/png:https://immensefestival.be/wp-content/uploads/2025/02/EXPO-SAMU-FR.png
END:VEVENT
END:VCALENDAR